BEGIN:VCALENDAR
VERSION:2.0
PRODID:-//Aloha Haarlem - ECPv6.15.15//NONSGML v1.0//EN
CALSCALE:GREGORIAN
METHOD:PUBLISH
X-ORIGINAL-URL:https://www.aloha-haarlem.nl
X-WR-CALDESC:Evenementen voor Aloha Haarlem
REFRESH-INTERVAL;VALUE=DURATION:PT1H
X-Robots-Tag:noindex
X-PUBLISHED-TTL:PT1H
BEGIN:VTIMEZONE
TZID:Europe/Amsterdam
BEGIN:DAYLIGHT
TZOFFSETFROM:+0100
TZOFFSETTO:+0200
TZNAME:CEST
DTSTART:20240331T010000
END:DAYLIGHT
BEGIN:STANDARD
TZOFFSETFROM:+0200
TZOFFSETTO:+0100
TZNAME:CET
DTSTART:20241027T010000
END:STANDARD
BEGIN:DAYLIGHT
TZOFFSETFROM:+0100
TZOFFSETTO:+0200
TZNAME:CEST
DTSTART:20250330T010000
END:DAYLIGHT
BEGIN:STANDARD
TZOFFSETFROM:+0200
TZOFFSETTO:+0100
TZNAME:CET
DTSTART:20251026T010000
END:STANDARD
BEGIN:DAYLIGHT
TZOFFSETFROM:+0100
TZOFFSETTO:+0200
TZNAME:CEST
DTSTART:20260329T010000
END:DAYLIGHT
BEGIN:STANDARD
TZOFFSETFROM:+0200
TZOFFSETTO:+0100
TZNAME:CET
DTSTART:20261025T010000
END:STANDARD
END:VTIMEZONE
BEGIN:VEVENT
DTSTART;TZID=Europe/Amsterdam:20250130T191500
DTEND;TZID=Europe/Amsterdam:20250130T204500
DTSTAMP:20260422T180153
CREATED:20241210T103507Z
LAST-MODIFIED:20241210T103507Z
UID:13114-1738264500-1738269900@www.aloha-haarlem.nl
SUMMARY:🤩Aloha Bowling Night!🎳💥
DESCRIPTION:
URL:https://www.aloha-haarlem.nl/events/%f0%9f%a4%a9aloha-bowling-night%f0%9f%8e%b3%f0%9f%92%a5/
LOCATION:Bison Bowling\, Orionweg 400\, Haarlem\, 2024 TH
CATEGORIES:actief,avontuur,Binnen,Gezellig samen,sport & spel,uitgaan
END:VEVENT
END:VCALENDAR