BEGIN:VCALENDAR
VERSION:2.0
PRODID:-//Aloha Haarlem - ECPv6.15.15//NONSGML v1.0//EN
CALSCALE:GREGORIAN
METHOD:PUBLISH
X-ORIGINAL-URL:https://www.aloha-haarlem.nl
X-WR-CALDESC:Evenementen voor Aloha Haarlem
REFRESH-INTERVAL;VALUE=DURATION:PT1H
X-Robots-Tag:noindex
X-PUBLISHED-TTL:PT1H
BEGIN:VTIMEZONE
TZID:Europe/Amsterdam
BEGIN:DAYLIGHT
TZOFFSETFROM:+0100
TZOFFSETTO:+0200
TZNAME:CEST
DTSTART:20240331T010000
END:DAYLIGHT
BEGIN:STANDARD
TZOFFSETFROM:+0200
TZOFFSETTO:+0100
TZNAME:CET
DTSTART:20241027T010000
END:STANDARD
BEGIN:DAYLIGHT
TZOFFSETFROM:+0100
TZOFFSETTO:+0200
TZNAME:CEST
DTSTART:20250330T010000
END:DAYLIGHT
BEGIN:STANDARD
TZOFFSETFROM:+0200
TZOFFSETTO:+0100
TZNAME:CET
DTSTART:20251026T010000
END:STANDARD
BEGIN:DAYLIGHT
TZOFFSETFROM:+0100
TZOFFSETTO:+0200
TZNAME:CEST
DTSTART:20260329T010000
END:DAYLIGHT
BEGIN:STANDARD
TZOFFSETFROM:+0200
TZOFFSETTO:+0100
TZNAME:CET
DTSTART:20261025T010000
END:STANDARD
END:VTIMEZONE
BEGIN:VEVENT
DTSTART;TZID=Europe/Amsterdam:20250509T100000
DTEND;TZID=Europe/Amsterdam:20250509T160000
DTSTAMP:20260422T103252
CREATED:20250311T152312Z
LAST-MODIFIED:20250312T150305Z
UID:13261-1746784800-1746806400@www.aloha-haarlem.nl
SUMMARY:🦁🦒Ga je mee naar Artis?🦓🐒
DESCRIPTION:
URL:https://www.aloha-haarlem.nl/events/%f0%9f%a6%81%f0%9f%a6%92ga-je-mee-naar-artis%f0%9f%a6%93%f0%9f%90%92/
LOCATION:Artis\, Plantage Kerklaan 38-40\, Amsterdam\, Netherlands
ATTACH;FMTTYPE=image/jpeg:https://www.aloha-haarlem.nl/wp-content/uploads/2025/03/Ga-je-mee-naar-Artis.jpg
END:VEVENT
END:VCALENDAR