BEGIN:VCALENDAR
VERSION:2.0
PRODID:-//Aloha Haarlem - ECPv6.15.15//NONSGML v1.0//EN
CALSCALE:GREGORIAN
METHOD:PUBLISH
X-ORIGINAL-URL:https://www.aloha-haarlem.nl
X-WR-CALDESC:Evenementen voor Aloha Haarlem
REFRESH-INTERVAL;VALUE=DURATION:PT1H
X-Robots-Tag:noindex
X-PUBLISHED-TTL:PT1H
BEGIN:VTIMEZONE
TZID:Europe/Amsterdam
BEGIN:DAYLIGHT
TZOFFSETFROM:+0100
TZOFFSETTO:+0200
TZNAME:CEST
DTSTART:20240331T010000
END:DAYLIGHT
BEGIN:STANDARD
TZOFFSETFROM:+0200
TZOFFSETTO:+0100
TZNAME:CET
DTSTART:20241027T010000
END:STANDARD
BEGIN:DAYLIGHT
TZOFFSETFROM:+0100
TZOFFSETTO:+0200
TZNAME:CEST
DTSTART:20250330T010000
END:DAYLIGHT
BEGIN:STANDARD
TZOFFSETFROM:+0200
TZOFFSETTO:+0100
TZNAME:CET
DTSTART:20251026T010000
END:STANDARD
BEGIN:DAYLIGHT
TZOFFSETFROM:+0100
TZOFFSETTO:+0200
TZNAME:CEST
DTSTART:20260329T010000
END:DAYLIGHT
BEGIN:STANDARD
TZOFFSETFROM:+0200
TZOFFSETTO:+0100
TZNAME:CET
DTSTART:20261025T010000
END:STANDARD
END:VTIMEZONE
BEGIN:VEVENT
DTSTART;TZID=Europe/Amsterdam:20250508T183000
DTEND;TZID=Europe/Amsterdam:20250508T203000
DTSTAMP:20260422T105022
CREATED:20250417T125239Z
LAST-MODIFIED:20250417T125239Z
UID:13316-1746729000-1746736200@www.aloha-haarlem.nl
SUMMARY:Kenniscafé: AI en ChatGPT
DESCRIPTION:
URL:https://www.aloha-haarlem.nl/events/kenniscafe-ai-en-chatgpt/
LOCATION:Inholland\, Bijdorplaan 15\, Haarlem
CATEGORIES:Binnen,Gezellig samen,Hier kan je iets leren
ATTACH;FMTTYPE=image/png:https://www.aloha-haarlem.nl/wp-content/uploads/2025/04/16106b9e-334c-439a-95a7-be3460ec6a49.png
ORGANIZER;CN="Aloha":MAILTO:Info@aloha-haarlem.nl
END:VEVENT
END:VCALENDAR