BEGIN:VCALENDAR
VERSION:2.0
PRODID:-//Aloha Haarlem - ECPv6.15.15//NONSGML v1.0//EN
CALSCALE:GREGORIAN
METHOD:PUBLISH
X-WR-CALNAME:Aloha Haarlem
X-ORIGINAL-URL:https://www.aloha-haarlem.nl
X-WR-CALDESC:Evenementen voor Aloha Haarlem
REFRESH-INTERVAL;VALUE=DURATION:PT1H
X-Robots-Tag:noindex
X-PUBLISHED-TTL:PT1H
BEGIN:VTIMEZONE
TZID:Europe/Amsterdam
BEGIN:DAYLIGHT
TZOFFSETFROM:+0100
TZOFFSETTO:+0200
TZNAME:CEST
DTSTART:20240331T010000
END:DAYLIGHT
BEGIN:STANDARD
TZOFFSETFROM:+0200
TZOFFSETTO:+0100
TZNAME:CET
DTSTART:20241027T010000
END:STANDARD
BEGIN:DAYLIGHT
TZOFFSETFROM:+0100
TZOFFSETTO:+0200
TZNAME:CEST
DTSTART:20250330T010000
END:DAYLIGHT
BEGIN:STANDARD
TZOFFSETFROM:+0200
TZOFFSETTO:+0100
TZNAME:CET
DTSTART:20251026T010000
END:STANDARD
BEGIN:DAYLIGHT
TZOFFSETFROM:+0100
TZOFFSETTO:+0200
TZNAME:CEST
DTSTART:20260329T010000
END:DAYLIGHT
BEGIN:STANDARD
TZOFFSETFROM:+0200
TZOFFSETTO:+0100
TZNAME:CET
DTSTART:20261025T010000
END:STANDARD
END:VTIMEZONE
BEGIN:VEVENT
DTSTART;TZID=Europe/Amsterdam:20250702T183000
DTEND;TZID=Europe/Amsterdam:20250702T200000
DTSTAMP:20260422T051110
CREATED:20250604T143608Z
LAST-MODIFIED:20250630T080740Z
UID:13349-1751481000-1751486400@www.aloha-haarlem.nl
SUMMARY:☀️✨🌿Vriendschaps-avond🤩🎲🌻
DESCRIPTION:
URL:https://www.aloha-haarlem.nl/events/%e2%98%80%ef%b8%8f%e2%9c%a8%f0%9f%8c%bfvriendschaps-avond%f0%9f%a4%a9%f0%9f%8e%b2%f0%9f%8c%bb/
LOCATION:Reinaldapark\, Reinaldapad 10\, Haarlem\, 2033 SX\, Netherlands
CATEGORIES:actief,avontuur,Gezellig samen,sport & spel
ATTACH;FMTTYPE=image/jpeg:https://www.aloha-haarlem.nl/wp-content/uploads/2025/06/vriendenavonden-juli.jpg
END:VEVENT
BEGIN:VEVENT
DTSTART;TZID=Europe/Amsterdam:20250716T183000
DTEND;TZID=Europe/Amsterdam:20250716T200000
DTSTAMP:20260422T051110
CREATED:20250604T144908Z
LAST-MODIFIED:20250715T104120Z
UID:13353-1752690600-1752696000@www.aloha-haarlem.nl
SUMMARY:☀️✨🌿Vriendschaps-avond🤩🌻Avondwandeling🦌🦌🦌
DESCRIPTION:
URL:https://www.aloha-haarlem.nl/events/%e2%98%80%ef%b8%8f%e2%9c%a8%f0%9f%8c%bfvriendschaps-avond%f0%9f%a4%a9%f0%9f%8c%bbavondwandeling%f0%9f%a6%8c%f0%9f%a6%8c%f0%9f%a6%8c/
LOCATION:Duincentrum de Zandwaaier\, Zeeweg 12\, Bloemendaal\, 2051 EC
CATEGORIES:actief,avontuur,Gezellig samen,Natuur
ATTACH;FMTTYPE=image/jpeg:https://www.aloha-haarlem.nl/wp-content/uploads/2025/06/vriendenavonden-juli.jpg
END:VEVENT
BEGIN:VEVENT
DTSTART;TZID=Europe/Amsterdam:20250717T183000
DTEND;TZID=Europe/Amsterdam:20250717T204500
DTSTAMP:20260422T051110
CREATED:20250701T133928Z
LAST-MODIFIED:20250701T134146Z
UID:13369-1752777000-1752785100@www.aloha-haarlem.nl
SUMMARY:☀️Zomers kenniscafé op de Baan!🍹
DESCRIPTION:https://www.aloha-haarlem.nl/wp-content/uploads/2025/07/17-juli-2025.mp4
URL:https://www.aloha-haarlem.nl/events/%e2%98%80%ef%b8%8fzomers-kenniscafe-op-de-baan%f0%9f%8d%b9/
CATEGORIES:Binnen,Gezellig samen
ATTACH;FMTTYPE=image/jpeg:https://www.aloha-haarlem.nl/wp-content/uploads/2025/07/KC-17-juli-2025-zomerse-avond-gezellig-1.jpg
END:VEVENT
BEGIN:VEVENT
DTSTART;TZID=Europe/Amsterdam:20250723T170000
DTEND;TZID=Europe/Amsterdam:20250723T193000
DTSTAMP:20260422T051110
CREATED:20250604T150446Z
LAST-MODIFIED:20250605T082202Z
UID:13355-1753290000-1753299000@www.aloha-haarlem.nl
SUMMARY:✨🥗🥙🌮Vriendschapsavond☀️🍧🍝🌯SUMMERPARTY!☀️🤩✨
DESCRIPTION:
URL:https://www.aloha-haarlem.nl/events/%e2%9c%a8%f0%9f%a5%97%f0%9f%a5%99%f0%9f%8c%aevriendschapsavond%e2%98%80%ef%b8%8f%f0%9f%8d%a7%f0%9f%8d%9d%f0%9f%8c%afsummerparty%e2%98%80%ef%b8%8f%f0%9f%a4%a9%e2%9c%a8/
LOCATION:De Baan\, Nauwe Geldelozepad\, Haarlem\, Noord-Holland\, 2012 EV\, Nederland
CATEGORIES:Binnen,Chillen,Gezellig samen,muziek,Samen eten
ATTACH;FMTTYPE=image/jpeg:https://www.aloha-haarlem.nl/wp-content/uploads/2025/06/Summer-Party.jpg
END:VEVENT
END:VCALENDAR