BEGIN:VCALENDAR
VERSION:2.0
PRODID:-//Aloha Haarlem - ECPv6.15.15//NONSGML v1.0//EN
CALSCALE:GREGORIAN
METHOD:PUBLISH
X-WR-CALNAME:Aloha Haarlem
X-ORIGINAL-URL:https://www.aloha-haarlem.nl
X-WR-CALDESC:Evenementen voor Aloha Haarlem
REFRESH-INTERVAL;VALUE=DURATION:PT1H
X-Robots-Tag:noindex
X-PUBLISHED-TTL:PT1H
BEGIN:VTIMEZONE
TZID:Europe/Amsterdam
BEGIN:DAYLIGHT
TZOFFSETFROM:+0100
TZOFFSETTO:+0200
TZNAME:CEST
DTSTART:20240331T010000
END:DAYLIGHT
BEGIN:STANDARD
TZOFFSETFROM:+0200
TZOFFSETTO:+0100
TZNAME:CET
DTSTART:20241027T010000
END:STANDARD
BEGIN:DAYLIGHT
TZOFFSETFROM:+0100
TZOFFSETTO:+0200
TZNAME:CEST
DTSTART:20250330T010000
END:DAYLIGHT
BEGIN:STANDARD
TZOFFSETFROM:+0200
TZOFFSETTO:+0100
TZNAME:CET
DTSTART:20251026T010000
END:STANDARD
BEGIN:DAYLIGHT
TZOFFSETFROM:+0100
TZOFFSETTO:+0200
TZNAME:CEST
DTSTART:20260329T010000
END:DAYLIGHT
BEGIN:STANDARD
TZOFFSETFROM:+0200
TZOFFSETTO:+0100
TZNAME:CET
DTSTART:20261025T010000
END:STANDARD
END:VTIMEZONE
BEGIN:VEVENT
DTSTART;TZID=Europe/Amsterdam:20250604T190000
DTEND;TZID=Europe/Amsterdam:20250604T210000
DTSTAMP:20260422T065731
CREATED:20250522T081859Z
LAST-MODIFIED:20250522T081859Z
UID:13336-1749063600-1749070800@www.aloha-haarlem.nl
SUMMARY:✨Vriendschaps-avond🤗
DESCRIPTION:
URL:https://www.aloha-haarlem.nl/events/%e2%9c%a8vriendschaps-avond%f0%9f%a4%97/
LOCATION:De Baan\, Nauwe Geldelozepad\, Haarlem\, Noord-Holland\, 2012 EV\, Nederland
CATEGORIES:Binnen,Chillen,Gezellig samen
ATTACH;FMTTYPE=image/jpeg:https://www.aloha-haarlem.nl/wp-content/uploads/2025/05/Vriendschapsavonden-juni-25.jpg
END:VEVENT
BEGIN:VEVENT
DTSTART;TZID=Europe/Amsterdam:20250611T190000
DTEND;TZID=Europe/Amsterdam:20250611T210000
DTSTAMP:20260422T065731
CREATED:20250522T092216Z
LAST-MODIFIED:20250522T092216Z
UID:13339-1749668400-1749675600@www.aloha-haarlem.nl
SUMMARY:🌿☀️Vriendschaps-avond😄🎴🃏♟️-Aloha Haarlem
DESCRIPTION:
URL:https://www.aloha-haarlem.nl/events/%f0%9f%8c%bf%e2%98%80%ef%b8%8fvriendschaps-avond%f0%9f%98%84%f0%9f%8e%b4%f0%9f%83%8f%e2%99%9f%ef%b8%8f-aloha-haarlem/
CATEGORIES:Binnen,Chillen,Gezellig samen
ATTACH;FMTTYPE=image/jpeg:https://www.aloha-haarlem.nl/wp-content/uploads/2025/05/Vriendschapsavonden-juni-25.jpg
END:VEVENT
BEGIN:VEVENT
DTSTART;TZID=Europe/Amsterdam:20250618T190000
DTEND;TZID=Europe/Amsterdam:20250618T210000
DTSTAMP:20260422T065731
CREATED:20250522T092605Z
LAST-MODIFIED:20250522T092605Z
UID:13341-1750273200-1750280400@www.aloha-haarlem.nl
SUMMARY:♟️🤩Vriendschaps-avond ✨🎲🧸-Aloha Haarlem
DESCRIPTION:
URL:https://www.aloha-haarlem.nl/events/%e2%99%9f%ef%b8%8f%f0%9f%a4%a9vriendschaps-avond-%e2%9c%a8%f0%9f%8e%b2%f0%9f%a7%b8-aloha-haarlem/
LOCATION:De Baan\, Nauwe Geldelozepad\, Haarlem\, Noord-Holland\, 2012 EV\, Nederland
CATEGORIES:Binnen,Chillen,Gezellig samen
ATTACH;FMTTYPE=image/jpeg:https://www.aloha-haarlem.nl/wp-content/uploads/2025/05/Vriendschapsavonden-juni-25.jpg
END:VEVENT
BEGIN:VEVENT
DTSTART;TZID=Europe/Amsterdam:20250625T190000
DTEND;TZID=Europe/Amsterdam:20250625T210000
DTSTAMP:20260422T065731
CREATED:20250522T092908Z
LAST-MODIFIED:20250522T092908Z
UID:13343-1750878000-1750885200@www.aloha-haarlem.nl
SUMMARY:🎲🤗🌿Vriendschaps-avond ✨☀️♟️-Aloha Haarlem 🎴😄
DESCRIPTION:
URL:https://www.aloha-haarlem.nl/events/%f0%9f%8e%b2%f0%9f%a4%97%f0%9f%8c%bfvriendschaps-avond-%e2%9c%a8%e2%98%80%ef%b8%8f%e2%99%9f%ef%b8%8f-aloha-haarlem-%f0%9f%8e%b4%f0%9f%98%84/
LOCATION:De Baan\, Nauwe Geldelozepad\, Haarlem\, Noord-Holland\, 2012 EV\, Nederland
CATEGORIES:Binnen,Chillen,Gezellig samen
ATTACH;FMTTYPE=image/jpeg:https://www.aloha-haarlem.nl/wp-content/uploads/2025/05/Vriendschapsavonden-juni-25.jpg
END:VEVENT
BEGIN:VEVENT
DTSTART;TZID=Europe/Amsterdam:20250628T190000
DTEND;TZID=Europe/Amsterdam:20250628T233000
DTSTAMP:20260422T065731
CREATED:20250522T093453Z
LAST-MODIFIED:20250522T093453Z
UID:13345-1751137200-1751153400@www.aloha-haarlem.nl
SUMMARY:Speeddate Special & Dansfeestje!
DESCRIPTION:
URL:https://www.aloha-haarlem.nl/events/speeddate-special-dansfeestje/
LOCATION:De Baan\, Nauwe Geldelozepad\, Haarlem\, Noord-Holland\, 2012 EV\, Nederland
CATEGORIES:Aloha Club,Binnen,Gezellig samen,muziek,uitgaan
ORGANIZER;CN="Aloha":MAILTO:Info@aloha-haarlem.nl
END:VEVENT
END:VCALENDAR