BEGIN:VCALENDAR
VERSION:2.0
PRODID:-//Aloha Haarlem - ECPv6.15.15//NONSGML v1.0//EN
CALSCALE:GREGORIAN
METHOD:PUBLISH
X-WR-CALNAME:Aloha Haarlem
X-ORIGINAL-URL:https://www.aloha-haarlem.nl
X-WR-CALDESC:Evenementen voor Aloha Haarlem
REFRESH-INTERVAL;VALUE=DURATION:PT1H
X-Robots-Tag:noindex
X-PUBLISHED-TTL:PT1H
BEGIN:VTIMEZONE
TZID:Europe/Amsterdam
BEGIN:DAYLIGHT
TZOFFSETFROM:+0100
TZOFFSETTO:+0200
TZNAME:CEST
DTSTART:20230326T010000
END:DAYLIGHT
BEGIN:STANDARD
TZOFFSETFROM:+0200
TZOFFSETTO:+0100
TZNAME:CET
DTSTART:20231029T010000
END:STANDARD
BEGIN:DAYLIGHT
TZOFFSETFROM:+0100
TZOFFSETTO:+0200
TZNAME:CEST
DTSTART:20240331T010000
END:DAYLIGHT
BEGIN:STANDARD
TZOFFSETFROM:+0200
TZOFFSETTO:+0100
TZNAME:CET
DTSTART:20241027T010000
END:STANDARD
BEGIN:DAYLIGHT
TZOFFSETFROM:+0100
TZOFFSETTO:+0200
TZNAME:CEST
DTSTART:20250330T010000
END:DAYLIGHT
BEGIN:STANDARD
TZOFFSETFROM:+0200
TZOFFSETTO:+0100
TZNAME:CET
DTSTART:20251026T010000
END:STANDARD
END:VTIMEZONE
BEGIN:VEVENT
DTSTART;TZID=Europe/Amsterdam:20241102T193000
DTEND;TZID=Europe/Amsterdam:20241102T220000
DTSTAMP:20260420T210730
CREATED:20241008T090826Z
LAST-MODIFIED:20241031T125656Z
UID:13037-1730575800-1730584800@www.aloha-haarlem.nl
SUMMARY:Afgelast! Helaas gaat deze activiteit voor Aloha niet door.
DESCRIPTION:
URL:https://www.aloha-haarlem.nl/events/met-een-groepje-naar-het-patronaat/
LOCATION:Patronaat\, Zijlsingel 2\, Haarlem
CATEGORIES:actief,Binnen,Gezellig samen,muziek,uitgaan
ATTACH;FMTTYPE=image/jpeg:https://www.aloha-haarlem.nl/wp-content/uploads/2024/10/Gallowstreet1.jpg
END:VEVENT
BEGIN:VEVENT
DTSTART;TZID=Europe/Amsterdam:20241113T173000
DTEND;TZID=Europe/Amsterdam:20241113T193000
DTSTAMP:20260420T210730
CREATED:20241030T101136Z
LAST-MODIFIED:20241105T112024Z
UID:13050-1731519000-1731526200@www.aloha-haarlem.nl
SUMMARY:Aloha Eten met Vrienden.
DESCRIPTION:
URL:https://www.aloha-haarlem.nl/events/aloha-eten-met-vrienden/
LOCATION:De Baan\, Nauwe Geldelozepad\, Haarlem\, Noord-Holland\, 2012 EV\, Nederland
CATEGORIES:Aloha+,Binnen,Chillen,creatief,Gezellig samen,muziek
ATTACH;FMTTYPE=image/jpeg:https://www.aloha-haarlem.nl/wp-content/uploads/2024/10/Eten-met-vrienden-1.jpg
END:VEVENT
BEGIN:VEVENT
DTSTART;TZID=Europe/Amsterdam:20241116T200000
DTEND;TZID=Europe/Amsterdam:20241116T223000
DTSTAMP:20260420T210730
CREATED:20241106T150439Z
LAST-MODIFIED:20241106T150439Z
UID:13061-1731787200-1731796200@www.aloha-haarlem.nl
SUMMARY:🎉🪩Je bent uitgenodigd op Joep’s party! 🤩🥳
DESCRIPTION:
URL:https://www.aloha-haarlem.nl/events/%f0%9f%8e%89%f0%9f%aa%a9je-bent-uitgenodigd-op-joeps-party-%f0%9f%a4%a9%f0%9f%a5%b3/
LOCATION:De Baan\, Nauwe Geldelozepad\, Haarlem\, Noord-Holland\, 2012 EV\, Nederland
CATEGORIES:Aloha Club,Aloha+,Binnen,Gezellig samen,muziek,uitgaan
ATTACH;FMTTYPE=image/jpeg:https://www.aloha-haarlem.nl/wp-content/uploads/2024/11/Kopie-van-Aloha-club-opening.jpeg
END:VEVENT
BEGIN:VEVENT
DTSTART;TZID=Europe/Amsterdam:20241117T150000
DTEND;TZID=Europe/Amsterdam:20241117T170000
DTSTAMP:20260420T210730
CREATED:20241106T164035Z
LAST-MODIFIED:20241115T170701Z
UID:13064-1731855600-1731862800@www.aloha-haarlem.nl
SUMMARY:Afgelast. Gaat niet door.
DESCRIPTION:
URL:https://www.aloha-haarlem.nl/events/chillmiddag-in-hoofddorp-2/
LOCATION:Jongerencentrum Flex C\, Schuilenburg 1\, Hoofddorp\, Nederland
CATEGORIES:Binnen,Chillen,creatief,Gezellig samen,muziek
ATTACH;FMTTYPE=image/png:https://www.aloha-haarlem.nl/wp-content/uploads/2024/11/Kopie-van-Chillmiddag.png
END:VEVENT
BEGIN:VEVENT
DTSTART;TZID=Europe/Amsterdam:20241121T193000
DTEND;TZID=Europe/Amsterdam:20241121T213000
DTSTAMP:20260420T210730
CREATED:20241106T111541Z
LAST-MODIFIED:20241106T111541Z
UID:13058-1732217400-1732224600@www.aloha-haarlem.nl
SUMMARY:🎱Aloha café in de Luifel! 🍹🍿🎲
DESCRIPTION:
URL:https://www.aloha-haarlem.nl/events/%f0%9f%8e%b1aloha-cafe-in-de-luifel-%f0%9f%8d%b9%f0%9f%8d%bf%f0%9f%8e%b2/
LOCATION:Plexat\, in de Luifel\, Herenweg 96\, Heemstede
CATEGORIES:Binnen,Chillen,Gezellig samen,muziek
ATTACH;FMTTYPE=image/jpeg:https://www.aloha-haarlem.nl/wp-content/uploads/2024/11/Kopie-van-chill171024.jpeg
END:VEVENT
BEGIN:VEVENT
DTSTART;TZID=Europe/Amsterdam:20241121T200000
DTEND;TZID=Europe/Amsterdam:20241121T223000
DTSTAMP:20260420T210730
CREATED:20241009T080120Z
LAST-MODIFIED:20241105T104320Z
UID:13041-1732219200-1732228200@www.aloha-haarlem.nl
SUMMARY:Samen met Aloha naar een dansvoorstelling in de (Toneel) Schuur! (Ook voor Aloha+)
DESCRIPTION:
URL:https://www.aloha-haarlem.nl/events/samen-met-aloha-naar-een-dansvoorstelling-in-de-toneel-schuur-ook-voor-aloha/
LOCATION:Schuur\, Lange Begijnestraat 9\, Haarlem\, 2011HH\, Nederland
CATEGORIES:Binnen,Gezellig samen,muziek,uitgaan
ATTACH;FMTTYPE=image/jpeg:https://www.aloha-haarlem.nl/wp-content/uploads/2024/10/Schuur-tipping-point1-1.jpg
END:VEVENT
END:VCALENDAR